BEGIN:VCALENDAR
VERSION:2.0
PRODID:-//Sunsei Sound - ECPv6.15.20//NONSGML v1.0//EN
CALSCALE:GREGORIAN
METHOD:PUBLISH
X-ORIGINAL-URL:https://sunseisound.com
X-WR-CALDESC:Events for Sunsei Sound
REFRESH-INTERVAL;VALUE=DURATION:PT1H
X-Robots-Tag:noindex
X-PUBLISHED-TTL:PT1H
BEGIN:VTIMEZONE
TZID:America/New_York
BEGIN:DAYLIGHT
TZOFFSETFROM:-0500
TZOFFSETTO:-0400
TZNAME:EDT
DTSTART:20240310T070000
END:DAYLIGHT
BEGIN:STANDARD
TZOFFSETFROM:-0400
TZOFFSETTO:-0500
TZNAME:EST
DTSTART:20241103T060000
END:STANDARD
BEGIN:DAYLIGHT
TZOFFSETFROM:-0500
TZOFFSETTO:-0400
TZNAME:EDT
DTSTART:20250309T070000
END:DAYLIGHT
BEGIN:STANDARD
TZOFFSETFROM:-0400
TZOFFSETTO:-0500
TZNAME:EST
DTSTART:20251102T060000
END:STANDARD
BEGIN:DAYLIGHT
TZOFFSETFROM:-0500
TZOFFSETTO:-0400
TZNAME:EDT
DTSTART:20260308T070000
END:DAYLIGHT
BEGIN:STANDARD
TZOFFSETFROM:-0400
TZOFFSETTO:-0500
TZNAME:EST
DTSTART:20261101T060000
END:STANDARD
END:VTIMEZONE
BEGIN:VEVENT
DTSTART;TZID=America/New_York:20250427T170000
DTEND;TZID=America/New_York:20250427T190000
DTSTAMP:20260424T115603
CREATED:20250331T222210Z
LAST-MODIFIED:20250331T222210Z
UID:1011-1745773200-1745780400@sunseisound.com
SUMMARY:New Moon Cacao Ceremony and Sound Bath
DESCRIPTION:Join our New Moon Shamanic Cacao Ceremony and Sound Bath for relaxation and healing by the tranquil pool under Taurus energy.\nWe welcome this powerful new moon in Taurus ♉ while gathered around the tranquil pool with rock waterfall. The setting immediately brings relaxation as we anchor in the earth energy. Taurus is ruled by Venus\, which is deeply connected to earth\, physical comforts and pleasures of life. \nWe will begin with a Shamanic Cacao ceremony and will use the energy of the moon to help us anchor in stability in our lives\, relationships and work places. \nAfterwards\, we will relax lying down for a brief tune up of our chakra energy centers. Then the crystal bowls and other instruments will bath us in tranquility. \nMy intention is to create a peaceful\, loving\, and safe space for you to uncover your own insights and receive whatever guidance and healing you need. This is a very powerful and potentially transformative experience that will set the stage for you as we fully enter spring. \nPlease bring a yoga mat\, pillow and special cup if you have one. Wear comfie clothes for sitting by the pool and plan to arrive 15 minutes early to receive a blessing. \nEnergy exchange 🌀$44 \n  \nNew Moon Shamanic Cacao Ceremony and Sound Bath \n 
URL:https://sunseisound.com/event/new-moon-cacao-ceremony-and-sound-bath/
LOCATION:12 Fairway Drive Cocoa Beach poolside\, 12 Fairway Drive\, Cocoa Beach\, Florida\, 32931
CATEGORIES:Ceremony
ATTACH;FMTTYPE=image/jpeg:https://sunseisound.com/wp-content/uploads/2024/06/Sound-Bath2-web.jpg
ORGANIZER;CN="Sunsei Gold":MAILTO:Sunseisound@gmail.com
END:VEVENT
END:VCALENDAR