BEGIN:VCALENDAR
VERSION:2.0
PRODID:-//Sunsei Sound - ECPv6.15.20//NONSGML v1.0//EN
CALSCALE:GREGORIAN
METHOD:PUBLISH
X-ORIGINAL-URL:https://sunseisound.com
X-WR-CALDESC:Events for Sunsei Sound
REFRESH-INTERVAL;VALUE=DURATION:PT1H
X-Robots-Tag:noindex
X-PUBLISHED-TTL:PT1H
BEGIN:VTIMEZONE
TZID:America/New_York
BEGIN:DAYLIGHT
TZOFFSETFROM:-0500
TZOFFSETTO:-0400
TZNAME:EDT
DTSTART:20240310T070000
END:DAYLIGHT
BEGIN:STANDARD
TZOFFSETFROM:-0400
TZOFFSETTO:-0500
TZNAME:EST
DTSTART:20241103T060000
END:STANDARD
BEGIN:DAYLIGHT
TZOFFSETFROM:-0500
TZOFFSETTO:-0400
TZNAME:EDT
DTSTART:20250309T070000
END:DAYLIGHT
BEGIN:STANDARD
TZOFFSETFROM:-0400
TZOFFSETTO:-0500
TZNAME:EST
DTSTART:20251102T060000
END:STANDARD
BEGIN:DAYLIGHT
TZOFFSETFROM:-0500
TZOFFSETTO:-0400
TZNAME:EDT
DTSTART:20260308T070000
END:DAYLIGHT
BEGIN:STANDARD
TZOFFSETFROM:-0400
TZOFFSETTO:-0500
TZNAME:EST
DTSTART:20261101T060000
END:STANDARD
END:VTIMEZONE
BEGIN:VEVENT
DTSTART;TZID=America/New_York:20250920T160000
DTEND;TZID=America/New_York:20250920T180000
DTSTAMP:20260424T032830
CREATED:20250912T162148Z
LAST-MODIFIED:20250912T162148Z
UID:1091-1758384000-1758391200@sunseisound.com
SUMMARY:Fall Equinox Cacao Ceremony and Sound Bath
DESCRIPTION:🍂✨ Fall Equinox Cacao Ceremony and Sound Bath ✨🍂\nWith equal amounts of light and dark\, we honor the Fall Equinox—a sacred moment of cosmic balance as we prepare for a season of introspection and the harvesting of our heart’s deepest desires. \nJoin us for the Fall Equinox Cacao Ceremony and Sound Bath\, where we will deepen our experience of this sacred time. \nWe will gather in ceremony to honor this turning of the wheel and create space to align with the shifting season. \n🌺 What to Expect \n🌟 Experience the Magic of the Fall Equinox Cacao Ceremony and Sound Bath \n🌟 Dive Deeper into the Fall Equinox Cacao Ceremony and Sound Bath \n🌟 Exploring the Fall Equinox Cacao Ceremony and Sound Bath Experience \n\nBegin with the heart-opening deliciousness of Mama Cacao\nJourney through the shamanic medicine wheel\, the chakana\nDrop into deep relaxation on your yoga mat\nReceive the magic of crystal bowls and other sacred instruments\, allowing your energetic body to recalibrate and release what no longer serves your highest good\n\n🌙 What to Bring \n\nA special cup if you have one\nComfortable clothing and an open heart\nA mat and blanket will be provided\, but feel free to bring anything else that supports your comfort\n\nThis is a time to come together in community\, supporting one another as we navigate these potent equinox energies. \n💫 Energy Exchange: $44 \nhttps://facebook.com/events/s/fall-equinox-cacao-ceremony-an/1171811001449204/ \n  \n  \n  \n 
URL:https://sunseisound.com/event/fall-equinox-cacao-ceremony-and-sound-bath/
LOCATION:Sunsei Sound\, 37 Lyndsay Lane\, Glenburn\, ME\, 04401\, United States
CATEGORIES:Ceremony
ATTACH;FMTTYPE=image/jpeg:https://sunseisound.com/wp-content/uploads/2025/09/IMG_8574.jpeg
ORGANIZER;CN="Sunsei Gold":MAILTO:Sunseisound@gmail.com
END:VEVENT
END:VCALENDAR