BEGIN:VCALENDAR
VERSION:2.0
PRODID:-//Sunsei Sound - ECPv6.15.20//NONSGML v1.0//EN
CALSCALE:GREGORIAN
METHOD:PUBLISH
X-WR-CALNAME:Sunsei Sound
X-ORIGINAL-URL:https://sunseisound.com
X-WR-CALDESC:Events for Sunsei Sound
REFRESH-INTERVAL;VALUE=DURATION:PT1H
X-Robots-Tag:noindex
X-PUBLISHED-TTL:PT1H
BEGIN:VTIMEZONE
TZID:America/New_York
BEGIN:DAYLIGHT
TZOFFSETFROM:-0500
TZOFFSETTO:-0400
TZNAME:EDT
DTSTART:20220313T070000
END:DAYLIGHT
BEGIN:STANDARD
TZOFFSETFROM:-0400
TZOFFSETTO:-0500
TZNAME:EST
DTSTART:20221106T060000
END:STANDARD
BEGIN:DAYLIGHT
TZOFFSETFROM:-0500
TZOFFSETTO:-0400
TZNAME:EDT
DTSTART:20230312T070000
END:DAYLIGHT
BEGIN:STANDARD
TZOFFSETFROM:-0400
TZOFFSETTO:-0500
TZNAME:EST
DTSTART:20231105T060000
END:STANDARD
BEGIN:DAYLIGHT
TZOFFSETFROM:-0500
TZOFFSETTO:-0400
TZNAME:EDT
DTSTART:20240310T070000
END:DAYLIGHT
BEGIN:STANDARD
TZOFFSETFROM:-0400
TZOFFSETTO:-0500
TZNAME:EST
DTSTART:20241103T060000
END:STANDARD
BEGIN:DAYLIGHT
TZOFFSETFROM:-0500
TZOFFSETTO:-0400
TZNAME:EDT
DTSTART:20250309T070000
END:DAYLIGHT
BEGIN:STANDARD
TZOFFSETFROM:-0400
TZOFFSETTO:-0500
TZNAME:EST
DTSTART:20251102T060000
END:STANDARD
END:VTIMEZONE
BEGIN:VEVENT
DTSTART;TZID=America/New_York:20241115T170000
DTEND;TZID=America/New_York:20241115T190000
DTSTAMP:20260425T070458
CREATED:20241104T154629Z
LAST-MODIFIED:20241104T174241Z
UID:953-1731690000-1731697200@sunseisound.com
SUMMARY:Beaver Moon 🌕 Shamanic Cacao and Sound Bath
DESCRIPTION:The BEAVER FULL MOON 🌝 is all about preparation and adaptation. As we head into the season of darkness\, we embrace the energy of this full moon cycle to remind us to use right action and conduct from the heart 💚. \nThe beaver 🦫 teaches us to be resourceful in our daily lives and find creative solutions to the challenges we face. He uses his intelligence to build his own environment and reminds us to do the same. \nWe will begin the night with a Shamanic Cacao ceremony receiving this gentle yet powerful medicine as we journey together using the chakana medicine wheel. \nThis delicious pure chocolate offering is just what we need to feel the amazing benefits of this plant. She is the perfect balance of magnesium and calcium stimulating the happy bliss chemicals of serotonin and theobromine. You will feel stimulated and peaceful 🕊️ without the jitters of caffeine. \nNext up\, we will gently open our chakra energy centers in order to slip into a relaxing theta state where the sound bath will soothe our souls. Here\, you will journey within receiving whatever you need in your own process. \nWe all have the power to create healing in whatever form is needed – physical\, spiritual or emotional. This space will be a safe container with no judgements where everyone is welcome to come and explore your own internal process with the aids of the cacao and beautiful melodies. 🎶🌀🎵 \nA yoga mat\, bolster and light blanket will be provided. Please bring an extra blanket or pillow if you choose and wear comfortable clothing. \nEnergy exchange 👉 $33 \nShamanic Cacao and Soundbath
URL:https://sunseisound.com/event/beaver-moon-%f0%9f%8c%95-shamanic-cacao-and-sound-bath/
LOCATION:Sunsei Sound\, 37 Lyndsay Lane\, Glenburn\, ME\, 04401\, United States
CATEGORIES:Ceremony
ATTACH;FMTTYPE=image/jpeg:https://sunseisound.com/wp-content/uploads/2023/09/photo-woman-holding-cup-of-liquid.jpg
ORGANIZER;CN="Sunsei Gold":MAILTO:Sunseisound@gmail.com
END:VEVENT
BEGIN:VEVENT
DTSTART;TZID=America/New_York:20240920T180000
DTEND;TZID=America/New_York:20240920T200000
DTSTAMP:20260425T070458
CREATED:20240906T171637Z
LAST-MODIFIED:20240912T213440Z
UID:946-1726855200-1726862400@sunseisound.com
SUMMARY:Full Moon and Equinox Cacao and Sound Bath
DESCRIPTION:We will join together in sacred ceremony to harness the energies of the full moon and the autumn equinox.\nThe energies have been very strong lately and our nervous systems need some support to settle\, calibrate and balance. \nUsing the beautiful and powerful medicine of cacao\, we will call in our team to bring illumination and guidance as we open up our energy fields. Mama Cacao is such a gentle teacher offering her heart to ours\, raising our vibration and delivering whatever is needed for the highest good.\nWith this delicious chocolate on board\, we will settle into our yoga mats for a gentle calibration of our chakras. \nOnce in a relaxed state\, we will be held by the melodic frequencies of the crystal sound bowls and other healing instruments. Here\, you will journey to the depths of your essence\, tapping into the codes of your own dna  and receive whatever you need at this time in your life. This might be healing\, insight\, guidance\, clarity\, strength\, answers etc. I will be the conduit for you to reach your own inner power and help you to connect with your higher self.\nTogether\, we will support one another\, offer a relaxed\, judgement free\, safe space to honor ourselves and receive self care. It is imperative to fill up our own cups so we may be in better service to our families and communities.\nPlease wear comfie clothes\, bring an extra pillow or blanket (I will provide a yoga mat\, blanket\, bolster and eye mask)\, and arrive 15 minutes early for a blessing.\nEnergy exchange – $33; space is limited. RSVP here or DM me. \n\nFull Moon and Equinox Cacao and Sound Bath
URL:https://sunseisound.com/event/full-moon-and-equinox-cacao-and-sound-bath/
LOCATION:Sunsei Sound\, 37 Lyndsay Lane\, Glenburn\, ME\, 04401\, United States
ATTACH;FMTTYPE=image/jpeg:https://sunseisound.com/wp-content/uploads/2024/06/Cacao-ceremony-web.jpg
END:VEVENT
BEGIN:VEVENT
DTSTART;TZID=America/New_York:20240620T180000
DTEND;TZID=America/New_York:20240620T200000
DTSTAMP:20260425T070458
CREATED:20240605T235505Z
LAST-MODIFIED:20240605T235656Z
UID:908-1718906400-1718913600@sunseisound.com
SUMMARY:Summer Solstice Shamanic Cacao Ceremony and Sound Bath
DESCRIPTION:Summer Solstice Shamanic Cacao Ceremony and Sound Bath \nAs we celebrate the longest day of the year 🌞\, let’s take time out for some energetic self care. 🙌 \nWe will begin by receiving the gently and delicious medicine of ceremonial grade pure cacao. Who doesn’t love chocolate!!! \nWe will be in sacred ceremony with this beautiful plant and receive whatever it is we are ready to integrate. \nNext\, we will gently check in with our chakras as we deepen our mental state while laying on our yoga mats. In a relaxed state\, we will receive the melodic tranquility of the crystal sound bowls and other sacred instruments. This is a time to tend to our energetic body and going within for relaxation\, insights and guidance. \nThis will be an impeccable container in a safe space where we will honor each other and support each other by creating a judgement free zone. \nWhat you’ll need – comfy clothes 👕\, optional extra blanket (one will be provided)\, a special cup if you have one (if not\, no worries)\, any crystals\, stones or items you’d like to place on our alter to receive the energy\, an open heart and mind. \nPlease plan to arrive 15 minutes early as we will begin at 6 pm. \nEnergy exchange – $33 \nPlease RSVP here\, space is limited. \nFollow event details here – https://facebook.com/events/s/summer-solstice-shamanic-cacao/1020366056470944/ \nSummer Solstice Shamanic Cacao Ceremony and Sound Bath
URL:https://sunseisound.com/event/summer-solstice-shamanic-cacao-ceremony-and-sound-bath/
LOCATION:Sunsei Sound\, 37 Lyndsay Lane\, Glenburn\, ME\, 04401\, United States
CATEGORIES:Ceremony
ATTACH;FMTTYPE=image/jpeg:https://sunseisound.com/wp-content/uploads/2024/06/IMG_5390.jpeg
ORGANIZER;CN="Sunsei Gold":MAILTO:Sunseisound@gmail.com
END:VEVENT
BEGIN:VEVENT
DTSTART;TZID=America/New_York:20240423T180000
DTEND;TZID=America/New_York:20240423T200000
DTSTAMP:20260425T070458
CREATED:20240405T164706Z
LAST-MODIFIED:20240405T164706Z
UID:888-1713895200-1713902400@sunseisound.com
SUMMARY:Powerful Pink Full Moon Shamanic Cacao Ceremony and Sound Bath
DESCRIPTION:Beautiful brothers and sisters! Join us as we welcome in the magical energies of the full moon following the powerful eclipse portal on April 8. This is an incredible time to be alive and we will harness the energies all around us to manifest new beginnings\, bring cycles to an end and release what no longer serves us.\nWe will begin our sacred ceremony by asking our team of allies to assist us in our journey. We will call our mountain guides\, our spirit guides\, our animal allies\, Pachamama\, our cosmic family and our higher selves. Working with the Chakana medicine wheel\, we will enjoy the medicine of Mama Cacao and all of her magic.\nCeremonial cacao is a gentle yet powerful medicine and we will enjoy the pure grade cacao directly from our medicine family in the region of Cusco Peru. Cacao has a perfect balance of magnesium and calcium and is a pure plant who offers us a glimpse beyond the veil\, showing us whatever it is that we need. As we work with this plant\, she will delight our physical body\, our mental body and our spiritual body\, meeting wherever you are in your journey.\nWith the medicine on board\, we will then settle onto our yoga mats for a delicious sound bath.\n\n\n \nFirst\, we will do a guided mediation to cleanse\, open and activate our chakras and get our minds into a beta state. Then the bowls and instruments will deliver a harmonious\, tranquil experience for you to journey wherever you need to go. \n\nWe will create a safe and loving environment for you to experience this magic with the intention to activate a spark within you to bring you into the highest vibration.\nWhat to bring: comfortable clothes\, a yoga mat\, a pillow\, eye mask (optional)\, your favorite blanket and any sacred items or crystals that you would like to have blessed on the alter.\nEnergy exchange is $55; please RSVP at least 24 hours in advance as the cacao is very sacred and requires delicate and thoughtful preparation.\n\nPink Full Moon Shamanic Cacao Ceremony and Sound Bath
URL:https://sunseisound.com/event/powerful-pink-full-moon-shamanic-cacao-ceremony-and-sound-bath/
LOCATION:Connected Spine\, 114 6th Ave. #2\, Indialantic\, FL\, 32903\, United States
CATEGORIES:Ceremony
ATTACH;FMTTYPE=image/jpeg:https://sunseisound.com/wp-content/uploads/2023/09/photo-woman-holding-cup-of-liquid.jpg
END:VEVENT
BEGIN:VEVENT
DTSTART;TZID=America/New_York:20230812T140000
DTEND;TZID=America/New_York:20230812T160000
DTSTAMP:20260425T070458
CREATED:20230823T191150Z
LAST-MODIFIED:20240105T180413Z
UID:736-1691848800-1691856000@sunseisound.com
SUMMARY:Shamanic Cacao Ceremony and Sound Bath
DESCRIPTION:ONE TIME ONLY! 25% OFF\nJoin me in ceremony and receive whatever you need to receive.\nWe will begin with a Shamanic Cacao (chocolate) ceremony\, which is a very light experience where I will welcome in our guardians\, set our intentions\, and guide you through a beautiful experience with this magnificent medicine. The sacred plant spirit of cacao has been used for thousands of years as a way of connecting to source in order to give us a higher perspective of our life’s journey and illuminate anything that needs clearing. We work with this plant in order to bring more joy and clarity into our lives.\nCacao is much more than just chocolate\, but who doesn’t love chocolate anyway? It has the perfect balance of calcium and magnesium that is fully absorbable by the body. It also has the happy brain chemical serotonin\, which is why we often crave it.\nI will guide you through a gentle meditation as we allow the spirit of maestro cacao to do her work to help us to relax\, receive guidance\, achieve clarity\, and offer us joy and bliss.\nNext\, we will settle in on our yoga mats and blankets and receive a peaceful sound bath using crystal bowls\, gong\, drums\, and other instruments. This will further our journey into a deep\, relaxing state so that we may receive inner guidance\, wisdom\, or insights.\nAll YOU need to do is come and receive. I will provide yoga mats\, bolsters\, and blankets for everyone. If you have a favorite pillow or blanket\, feel free to bring it. I also have a few eye masks\, but feel free to bring one if you’d like (optional). Dress in very comfortable clothes. \nSpace is limited! One time only $33 (regularly $44). Please RSVP\, and I can send a link for payment.\nPlease join me in a beautiful ceremony held with the highest frequency of light and unconditional love.
URL:https://sunseisound.com/event/cacao-sound-ceremony-5-21-23/
LOCATION:Sunsei Sound\, 37 Lyndsay Lane\, Glenburn\, ME\, 04401\, United States
END:VEVENT
END:VCALENDAR