BEGIN:VCALENDAR
VERSION:2.0
PRODID:-//Sunsei Sound - ECPv6.15.20//NONSGML v1.0//EN
CALSCALE:GREGORIAN
METHOD:PUBLISH
X-WR-CALNAME:Sunsei Sound
X-ORIGINAL-URL:https://sunseisound.com
X-WR-CALDESC:Events for Sunsei Sound
REFRESH-INTERVAL;VALUE=DURATION:PT1H
X-Robots-Tag:noindex
X-PUBLISHED-TTL:PT1H
BEGIN:VTIMEZONE
TZID:America/New_York
BEGIN:DAYLIGHT
TZOFFSETFROM:-0500
TZOFFSETTO:-0400
TZNAME:EDT
DTSTART:20240310T070000
END:DAYLIGHT
BEGIN:STANDARD
TZOFFSETFROM:-0400
TZOFFSETTO:-0500
TZNAME:EST
DTSTART:20241103T060000
END:STANDARD
BEGIN:DAYLIGHT
TZOFFSETFROM:-0500
TZOFFSETTO:-0400
TZNAME:EDT
DTSTART:20250309T070000
END:DAYLIGHT
BEGIN:STANDARD
TZOFFSETFROM:-0400
TZOFFSETTO:-0500
TZNAME:EST
DTSTART:20251102T060000
END:STANDARD
BEGIN:DAYLIGHT
TZOFFSETFROM:-0500
TZOFFSETTO:-0400
TZNAME:EDT
DTSTART:20260308T070000
END:DAYLIGHT
BEGIN:STANDARD
TZOFFSETFROM:-0400
TZOFFSETTO:-0500
TZNAME:EST
DTSTART:20261101T060000
END:STANDARD
BEGIN:DAYLIGHT
TZOFFSETFROM:-0500
TZOFFSETTO:-0400
TZNAME:EDT
DTSTART:20270314T070000
END:DAYLIGHT
BEGIN:STANDARD
TZOFFSETFROM:-0400
TZOFFSETTO:-0500
TZNAME:EST
DTSTART:20271107T060000
END:STANDARD
END:VTIMEZONE
BEGIN:VEVENT
DTSTART;TZID=America/New_York:20251204T180000
DTEND;TZID=America/New_York:20251204T200000
DTSTAMP:20260424T070407
CREATED:20251118T162832Z
LAST-MODIFIED:20251119T155301Z
UID:1107-1764871200-1764878400@sunseisound.com
SUMMARY:Full Moon Cacao Ceremony and Sound Bath
DESCRIPTION:Shamanic Cacao Ceremony and Sound Bath\nFull Cold Moon in Gemini Gathering 🌝✨ \nIt’s time once again to gather in sacred ceremony as we welcome the December Cold Full Moon.\nTogether\, we will weave intention\, breath\, and community inside the shamanic Chakana Medicine Wheel\, honoring the Four Directions and receiving guidance from our animal allies. \nThis Full Moon moves through Gemini\, ruled by Mercury — the planet of communication\, curiosity\, and adaptability. Under this energy\, we are invited to speak our truth with tenderness\, set loving boundaries\, and clarify our intentions from the heart. \nAs winter approaches\, nature calls us inward.\nInto the silence.\nInto reflection.\nInto the soft space where visions for the new year take form.\nThis ceremony will support you in attuning to what nourishes your mind\, body\, and spirit as we prepare to step into a new cycle. \nWhat to Expect \nPlease arrive 15 minutes early to receive a personal blessing.\nOptional comfort items:\n• Extra blanket (one provided)\n• Extra pillow (bolsters provided)\n• Your favorite cup\n• Special eye mask (several available) \nWe’ll begin by opening our hearts with the sacred medicine of ceremonial cacao\, a warm and delicious ally that expands compassion and connection.\nYou’ll then settle onto your yoga mat and receive the tranquil\, restorative frequencies of the sound bath — a soothing journey designed to relax your nervous system and recalibrate your energy. \nThis gathering is a beautiful way to nourish yourself as we enter the holiday season. \n✨ Space is limited. Please use the link below to register. ✨ \nFull Moon Cacao Ceremony and Sound Bath
URL:https://sunseisound.com/event/full-moon-cacao-ceremony-and-sound-bath/
LOCATION:Florida
CATEGORIES:Ceremony
ATTACH;FMTTYPE=image/jpeg:https://sunseisound.com/wp-content/uploads/2025/11/IMG_9580.jpeg
END:VEVENT
BEGIN:VEVENT
DTSTART;TZID=America/New_York:20251221T160000
DTEND;TZID=America/New_York:20251221T180000
DTSTAMP:20260424T070407
CREATED:20251215T225247Z
LAST-MODIFIED:20251215T225757Z
UID:1126-1766332800-1766340000@sunseisound.com
SUMMARY:Winter Solstice Cacao and Sound Bath
DESCRIPTION:This Winter Solstice arrives on the darkest night of the year\, marking the completion of a powerful 9-year cycle. \n\nFor four sacred days\, time slows — a profound pause between what has been and what is yet to come — before the gradual return of the Light. \nFor Christians\, this season honors the birth of Christ. \nFor ancient peoples across the Earth\, it is the rebirth of the Sun — a holy threshold\, a time of remembrance\, renewal\, and new beginnings. \nAs we close out the Year of the Snake 🐍 \, we are invited to shed old skins — outdated programs\, looping thought patterns\, relationships\, and stories that no longer serve our becoming. We now step into a 1 Year\, the Year of the Horse 🐎\, bringing with it movement\, vitality\, clarity\, excitement\, and a renewed sense of purpose. \nOn this sacred night\, I invite you to gather with me in ceremony\, honoring the medicine of stillness. This is a time to rest deeply\, reflect honestly\, and consciously prepare for the next cycle of our lives. \nExperience the Magic of Winter Solstice Cacao and Sound Bath\nTogether\, we will work with the Shamanic Medicine Wheel\, the Chakana\, calling in our sacred allies\, guardians\, and benevolent guides. Mama Cacao will offer her gentle sweetness\, opening our hearts and softening the veil so we may receive messages and wisdom from beyond. \nAs her medicine flows through us\, we will surrender into a deep state of relaxation and bliss\, held by the tranquil vibrations of crystal singing bowls\, receiving a nourishing sound bath that supports the nervous system\, heart\, and spirit. ✨ \n🌿 This form of self-care is\, for me\, non-negotiable. The calling is loud 📣. Coming together in ceremony is a powerful act of devotion — to ourselves\, to our community\, and to the greater whole. 🌎🌟 \n✨ Please arrive 15 minutes early to receive a personal blessing. 🪶 \nI will provide a blanket\, bolster\, and small chair. You are welcome to bring an additional blanket\, pillow\, eye covering\, or any sacred items you wish to place on the altar during ceremony. \n💫 Energy exchange: $44 \nSpace is limited so please register with this link. \nIf you feel the call\, trust it. 🙏 \nI would be honored to sit in ceremony with you. 🌑✨ \nWinter Solstice Cacao and Sound Bath \nFacebook Event
URL:https://sunseisound.com/event/winter-solstice-cacao-and-sound-bath/
LOCATION:Sunsei Sound\, 37 Lyndsay Lane\, Glenburn\, ME\, 04401\, United States
CATEGORIES:Ceremony
ATTACH;FMTTYPE=image/jpeg:https://sunseisound.com/wp-content/uploads/2025/12/IMG_0107.jpeg
ORGANIZER;CN="Sunsei Gold":MAILTO:Sunseisound@gmail.com
END:VEVENT
BEGIN:VEVENT
DTSTART;TZID=America/New_York:20260217T170000
DTEND;TZID=America/New_York:20260217T190000
DTSTAMP:20260424T070407
CREATED:20260120T031008Z
LAST-MODIFIED:20260120T031008Z
UID:1145-1771347600-1771354800@sunseisound.com
SUMMARY:New Moon Shamanic Cacao and Sound Bath
DESCRIPTION:New Moon Shamanic Cacao and Sound Bath\nWelcome to the New Moon 🌑 in Aquarius and the beginning of the Year of the Horse 🐎. \nThis is a double helix powerful portal! \nWith the solar eclipse in Aquarius\, we are invited to take a radical and honest look at our relationship with technology\, innovation\, and the future—opening ourselves to new projects\, new adventures\, and expanded ways of being. \nThe Year of the Snake 🐍 has shed its final skin. \nOld programs\, patterns\, and limitations are fully liberated\, making space for forward momentum\, clarity\, and embodied freedom. \nWe will begin by working with the gentle\, heart-opening plant medicine of ceremonial cacao\, allowing her to guide us into deeper connection and presence. Using the Shamanic Chakana (Andean Medicine Wheel)\, we will journey through the energies of Pachamama\, calling in her strongest allies and guardians to support us on our personal and collective paths. \nFollowing the ceremony\, you will be invited to get comfortable and surrender into a deeply restorative sound bath\, where crystal bowls and melodic instruments will transport you into profound relaxation and integration. \n✨ This ceremony will be held poolside\, accompanied by the tranquil sounds of flowing water from the rock waterfall\, amplifying the medicine and serenity of the experience. \nArrival:\nPlease arrive 20 minutes early to receive a Shamanic blessing. \nWhat to Bring:\n• Blanket\n• Pillow\n• Optional: a special cup for cacao (one will be provided)\n• Optional: an item for the altar \nEnergy Exchange: $44 \n✨ Space is limited. Please use the registration link to reserve your spot. \nNew Moon Shamanic Cacao and Sound Bath
URL:https://sunseisound.com/event/new-moon-shamanic-cacao-and-sound-bath-2/
LOCATION:12 Fairway Drive Cocoa Beach poolside\, 12 Fairway Drive\, Cocoa Beach\, Florida\, 32931
ORGANIZER;CN="Sunsei Gold":MAILTO:Sunseisound@gmail.com
END:VEVENT
BEGIN:VEVENT
DTSTART;TZID=America/New_York:20260320T180000
DTEND;TZID=America/New_York:20260320T200000
DTSTAMP:20260424T070407
CREATED:20260309T201903Z
LAST-MODIFIED:20260310T134900Z
UID:1162-1774029600-1774036800@sunseisound.com
SUMMARY:Spring Equinox Cacao Ceremony & Sound Bath
DESCRIPTION:Spring Equinox Cacao Ceremony & Sound Bath\nJoin us as we gather in sacred community to honor the Spring Equinox\, a powerful portal of equal light and dark. This moment in the cosmic cycle invites us to come into balance and remain steady and anchored as the world continues to shift and transform around us. \nWe will begin the evening with a Shamanic ceremony using the Chakana Medicine Wheel\, accompanied by the heart-opening sacred plant Mama Cacao. \nThis gentle ally is a powerful superfood that offers wisdom\, insight\, and emotional support as she nourishes us with her rich chocolatey sweetness. \nFollowing the ceremony\, participants will be invited to receive the deeply relaxing sounds of a tranquil sound bath\, either floating peacefully in the pool or resting poolside. \nTogether we will journey inward\, calming and strengthening the nervous system. This grounding is especially important during these times of rapid change\, as truths emerge\, old systems dissolve\, and new pathways begin to form. Self-care and community connection help us remain centered and resilient as we navigate these powerful energies. \nThis will be a beautiful evening of sacred ceremony\, held in a loving container of support\, compassion\, and non-judgment. \nCome exactly as you are\, wherever you are on your journey. \n✨ Please arrive 15 minutes early to receive a shamanic blessing. \n✨ Floating and resting mats will be provided\, along with chairs for the cacao ceremony. \n✨ You may wish to bring a blanket\, as evening temperatures can become cool. \n✨ If you feel called\, you are welcome to bring a special item for the altar. \nEnergy Exchange: $55 \nSee what people are saying 🙌 \nFacebook Link
URL:https://sunseisound.com/event/spring-equinox-cacao-ceremony-sound-bath/
LOCATION:12 Fairway Drive Cocoa Beach poolside\, 12 Fairway Drive\, Cocoa Beach\, Florida\, 32931
CATEGORIES:Ceremony
ATTACH;FMTTYPE=image/jpeg:https://sunseisound.com/wp-content/uploads/2026/01/0289a755-daa3-417e-b358-44887efc9d48.jpeg
END:VEVENT
END:VCALENDAR