BEGIN:VCALENDAR
VERSION:2.0
PRODID:-//Sunsei Sound - ECPv6.15.20//NONSGML v1.0//EN
CALSCALE:GREGORIAN
METHOD:PUBLISH
X-WR-CALNAME:Sunsei Sound
X-ORIGINAL-URL:https://sunseisound.com
X-WR-CALDESC:Events for Sunsei Sound
REFRESH-INTERVAL;VALUE=DURATION:PT1H
X-Robots-Tag:noindex
X-PUBLISHED-TTL:PT1H
BEGIN:VTIMEZONE
TZID:America/New_York
BEGIN:DAYLIGHT
TZOFFSETFROM:-0500
TZOFFSETTO:-0400
TZNAME:EDT
DTSTART:20230312T070000
END:DAYLIGHT
BEGIN:STANDARD
TZOFFSETFROM:-0400
TZOFFSETTO:-0500
TZNAME:EST
DTSTART:20231105T060000
END:STANDARD
BEGIN:DAYLIGHT
TZOFFSETFROM:-0500
TZOFFSETTO:-0400
TZNAME:EDT
DTSTART:20240310T070000
END:DAYLIGHT
BEGIN:STANDARD
TZOFFSETFROM:-0400
TZOFFSETTO:-0500
TZNAME:EST
DTSTART:20241103T060000
END:STANDARD
BEGIN:DAYLIGHT
TZOFFSETFROM:-0500
TZOFFSETTO:-0400
TZNAME:EDT
DTSTART:20250309T070000
END:DAYLIGHT
BEGIN:STANDARD
TZOFFSETFROM:-0400
TZOFFSETTO:-0500
TZNAME:EST
DTSTART:20251102T060000
END:STANDARD
END:VTIMEZONE
BEGIN:VEVENT
DTSTART;TZID=America/New_York:20240920T180000
DTEND;TZID=America/New_York:20240920T200000
DTSTAMP:20260424T202359
CREATED:20240906T171637Z
LAST-MODIFIED:20240912T213440Z
UID:946-1726855200-1726862400@sunseisound.com
SUMMARY:Full Moon and Equinox Cacao and Sound Bath
DESCRIPTION:We will join together in sacred ceremony to harness the energies of the full moon and the autumn equinox.\nThe energies have been very strong lately and our nervous systems need some support to settle\, calibrate and balance. \nUsing the beautiful and powerful medicine of cacao\, we will call in our team to bring illumination and guidance as we open up our energy fields. Mama Cacao is such a gentle teacher offering her heart to ours\, raising our vibration and delivering whatever is needed for the highest good.\nWith this delicious chocolate on board\, we will settle into our yoga mats for a gentle calibration of our chakras. \nOnce in a relaxed state\, we will be held by the melodic frequencies of the crystal sound bowls and other healing instruments. Here\, you will journey to the depths of your essence\, tapping into the codes of your own dna  and receive whatever you need at this time in your life. This might be healing\, insight\, guidance\, clarity\, strength\, answers etc. I will be the conduit for you to reach your own inner power and help you to connect with your higher self.\nTogether\, we will support one another\, offer a relaxed\, judgement free\, safe space to honor ourselves and receive self care. It is imperative to fill up our own cups so we may be in better service to our families and communities.\nPlease wear comfie clothes\, bring an extra pillow or blanket (I will provide a yoga mat\, blanket\, bolster and eye mask)\, and arrive 15 minutes early for a blessing.\nEnergy exchange – $33; space is limited. RSVP here or DM me. \n\nFull Moon and Equinox Cacao and Sound Bath
URL:https://sunseisound.com/event/full-moon-and-equinox-cacao-and-sound-bath/
LOCATION:Sunsei Sound\, 37 Lyndsay Lane\, Glenburn\, ME\, 04401\, United States
ATTACH;FMTTYPE=image/jpeg:https://sunseisound.com/wp-content/uploads/2024/06/Cacao-ceremony-web.jpg
END:VEVENT
END:VCALENDAR