BEGIN:VCALENDAR
VERSION:2.0
PRODID:-//Sunsei Sound - ECPv6.15.20//NONSGML v1.0//EN
CALSCALE:GREGORIAN
METHOD:PUBLISH
X-WR-CALNAME:Sunsei Sound
X-ORIGINAL-URL:https://sunseisound.com
X-WR-CALDESC:Events for Sunsei Sound
REFRESH-INTERVAL;VALUE=DURATION:PT1H
X-Robots-Tag:noindex
X-PUBLISHED-TTL:PT1H
BEGIN:VTIMEZONE
TZID:America/New_York
BEGIN:DAYLIGHT
TZOFFSETFROM:-0500
TZOFFSETTO:-0400
TZNAME:EDT
DTSTART:20230312T070000
END:DAYLIGHT
BEGIN:STANDARD
TZOFFSETFROM:-0400
TZOFFSETTO:-0500
TZNAME:EST
DTSTART:20231105T060000
END:STANDARD
BEGIN:DAYLIGHT
TZOFFSETFROM:-0500
TZOFFSETTO:-0400
TZNAME:EDT
DTSTART:20240310T070000
END:DAYLIGHT
BEGIN:STANDARD
TZOFFSETFROM:-0400
TZOFFSETTO:-0500
TZNAME:EST
DTSTART:20241103T060000
END:STANDARD
BEGIN:DAYLIGHT
TZOFFSETFROM:-0500
TZOFFSETTO:-0400
TZNAME:EDT
DTSTART:20250309T070000
END:DAYLIGHT
BEGIN:STANDARD
TZOFFSETFROM:-0400
TZOFFSETTO:-0500
TZNAME:EST
DTSTART:20251102T060000
END:STANDARD
END:VTIMEZONE
BEGIN:VEVENT
DTSTART;TZID=America/New_York:20240423T180000
DTEND;TZID=America/New_York:20240423T200000
DTSTAMP:20260425T083427
CREATED:20240405T164706Z
LAST-MODIFIED:20240405T164706Z
UID:888-1713895200-1713902400@sunseisound.com
SUMMARY:Powerful Pink Full Moon Shamanic Cacao Ceremony and Sound Bath
DESCRIPTION:Beautiful brothers and sisters! Join us as we welcome in the magical energies of the full moon following the powerful eclipse portal on April 8. This is an incredible time to be alive and we will harness the energies all around us to manifest new beginnings\, bring cycles to an end and release what no longer serves us.\nWe will begin our sacred ceremony by asking our team of allies to assist us in our journey. We will call our mountain guides\, our spirit guides\, our animal allies\, Pachamama\, our cosmic family and our higher selves. Working with the Chakana medicine wheel\, we will enjoy the medicine of Mama Cacao and all of her magic.\nCeremonial cacao is a gentle yet powerful medicine and we will enjoy the pure grade cacao directly from our medicine family in the region of Cusco Peru. Cacao has a perfect balance of magnesium and calcium and is a pure plant who offers us a glimpse beyond the veil\, showing us whatever it is that we need. As we work with this plant\, she will delight our physical body\, our mental body and our spiritual body\, meeting wherever you are in your journey.\nWith the medicine on board\, we will then settle onto our yoga mats for a delicious sound bath.\n\n\n \nFirst\, we will do a guided mediation to cleanse\, open and activate our chakras and get our minds into a beta state. Then the bowls and instruments will deliver a harmonious\, tranquil experience for you to journey wherever you need to go. \n\nWe will create a safe and loving environment for you to experience this magic with the intention to activate a spark within you to bring you into the highest vibration.\nWhat to bring: comfortable clothes\, a yoga mat\, a pillow\, eye mask (optional)\, your favorite blanket and any sacred items or crystals that you would like to have blessed on the alter.\nEnergy exchange is $55; please RSVP at least 24 hours in advance as the cacao is very sacred and requires delicate and thoughtful preparation.\n\nPink Full Moon Shamanic Cacao Ceremony and Sound Bath
URL:https://sunseisound.com/event/powerful-pink-full-moon-shamanic-cacao-ceremony-and-sound-bath/
LOCATION:Connected Spine\, 114 6th Ave. #2\, Indialantic\, FL\, 32903\, United States
CATEGORIES:Ceremony
ATTACH;FMTTYPE=image/jpeg:https://sunseisound.com/wp-content/uploads/2023/09/photo-woman-holding-cup-of-liquid.jpg
END:VEVENT
END:VCALENDAR